BEGIN:VCALENDAR
VERSION:2.0
PRODID:-//MLK-CIA - ECPv6.15.12.2//NONSGML v1.0//EN
CALSCALE:GREGORIAN
METHOD:PUBLISH
X-ORIGINAL-URL:https://mymlkcia.org
X-WR-CALDESC:Events for MLK-CIA
REFRESH-INTERVAL;VALUE=DURATION:PT1H
X-Robots-Tag:noindex
X-PUBLISHED-TTL:PT1H
BEGIN:VTIMEZONE
TZID:America/Detroit
BEGIN:DAYLIGHT
TZOFFSETFROM:-0500
TZOFFSETTO:-0400
TZNAME:EDT
DTSTART:20240310T070000
END:DAYLIGHT
BEGIN:STANDARD
TZOFFSETFROM:-0400
TZOFFSETTO:-0500
TZNAME:EST
DTSTART:20241103T060000
END:STANDARD
BEGIN:DAYLIGHT
TZOFFSETFROM:-0500
TZOFFSETTO:-0400
TZNAME:EDT
DTSTART:20250309T070000
END:DAYLIGHT
BEGIN:STANDARD
TZOFFSETFROM:-0400
TZOFFSETTO:-0500
TZNAME:EST
DTSTART:20251102T060000
END:STANDARD
BEGIN:DAYLIGHT
TZOFFSETFROM:-0500
TZOFFSETTO:-0400
TZNAME:EDT
DTSTART:20260308T070000
END:DAYLIGHT
BEGIN:STANDARD
TZOFFSETFROM:-0400
TZOFFSETTO:-0500
TZNAME:EST
DTSTART:20261101T060000
END:STANDARD
END:VTIMEZONE
BEGIN:VEVENT
DTSTART;TZID=America/Detroit:20251208T180000
DTEND;TZID=America/Detroit:20251208T200000
DTSTAMP:20260419T094831
CREATED:20251111T015108Z
LAST-MODIFIED:20251111T015108Z
UID:10000559-1765216800-1765224000@mymlkcia.org
SUMMARY:Water Aerobics and Swim Laps
DESCRIPTION:Mondays and Wednesdays 6pm-8pm. \n\n6-7pm shallow water aerobics class\n7-8pm deep water walking\n6-8pm lap swim (adults only)\n\nJackson High School Pool \n544 Wildwood Ave \n$5 drop in or $40 for 10 classes \nAlex Markham \ncall or text: 517-416-0365 \nemail amarkham@cityofjackson.org
URL:https://mymlkcia.org/event/water-aerobics-and-swim-laps/2025-12-08/
LOCATION:Jackson High Aquatics Center\, 544 Wildwood Avenue\, Jackson\, MI\, 49202\, United States
CATEGORIES:Free or Affordable
ATTACH;FMTTYPE=image/png:https://mymlkcia.org/wp-content/uploads/2025/11/Document-2.png
END:VEVENT
BEGIN:VEVENT
DTSTART;TZID=America/Detroit:20251208T190000
DTEND;TZID=America/Detroit:20251208T210000
DTSTAMP:20260419T094831
CREATED:20251111T021939Z
LAST-MODIFIED:20251111T021939Z
UID:10001289-1765220400-1765227600@mymlkcia.org
SUMMARY:Adult Drop In Soccer
DESCRIPTION:Stay active and keep up on your skills during the off season with our indoor drop in soccer program. October 13 – February 23. \nMondays and Wednesdays 7:15pm – 9:15pm. \nBoos Recreation Center\, 210 Gilbert Street. \n$2 per person or $20 for 12 visits. \n517-788-4040 \nrecreation@cityofjackson.org
URL:https://mymlkcia.org/event/adult-drop-in-soccer/2025-12-08/
LOCATION:Boos Center\, 210 Gilbert Street\, Jackson\, MI\, United States
CATEGORIES:Free or Affordable
ATTACH;FMTTYPE=image/png:https://mymlkcia.org/wp-content/uploads/2025/11/Document-1.png
END:VEVENT
END:VCALENDAR